BEGIN:VCALENDAR
VERSION:2.0
PRODID:-//Bend Factory Stores - ECPv6.6.4.2//NONSGML v1.0//EN
CALSCALE:GREGORIAN
METHOD:PUBLISH
X-WR-CALNAME:Bend Factory Stores
X-ORIGINAL-URL:https://www.bendfactorystores.com
X-WR-CALDESC:Events for Bend Factory Stores
REFRESH-INTERVAL;VALUE=DURATION:PT1H
X-Robots-Tag:noindex
X-PUBLISHED-TTL:PT1H
BEGIN:VTIMEZONE
TZID:America/Los_Angeles
BEGIN:DAYLIGHT
TZOFFSETFROM:-0800
TZOFFSETTO:-0700
TZNAME:PDT
DTSTART:20200308T100000
END:DAYLIGHT
BEGIN:STANDARD
TZOFFSETFROM:-0700
TZOFFSETTO:-0800
TZNAME:PST
DTSTART:20201101T090000
END:STANDARD
TZID:UTC
BEGIN:STANDARD
TZOFFSETFROM:+0000
TZOFFSETTO:+0000
TZNAME:UTC
DTSTART:20190101T000000
END:STANDARD
END:VTIMEZONE
BEGIN:VEVENT
DTSTART;VALUE=DATE:20201225
DTEND;VALUE=DATE:20201226
DTSTAMP:20260422T013920
CREATED:20201207T183723Z
LAST-MODIFIED:20201207T183723Z
UID:6866-1608854400-1608940799@www.bendfactorystores.com
SUMMARY:CLOSED CHRISTMAS DAY
DESCRIPTION:
URL:https://www.bendfactorystores.com/event-calendar/closed-christmas-day/
END:VEVENT
BEGIN:VEVENT
DTSTART;VALUE=DATE:20201224
DTEND;VALUE=DATE:20201225
DTSTAMP:20260422T013920
CREATED:20201207T183624Z
LAST-MODIFIED:20201207T183815Z
UID:6865-1608768000-1608854399@www.bendfactorystores.com
SUMMARY:Christmas Eve
DESCRIPTION:We Close at 6pm  \nHAPPY HOLIDAYS
URL:https://www.bendfactorystores.com/event-calendar/christmas-eve/
END:VEVENT
BEGIN:VEVENT
DTSTART;TZID=America/Los_Angeles:20201217T113000
DTEND;TZID=America/Los_Angeles:20201217T113000
DTSTAMP:20260422T013920
CREATED:20201116T174813Z
LAST-MODIFIED:20201116T174813Z
UID:6850-1608204600-1608204600@www.bendfactorystores.com
SUMMARY:Red Cross Blood Drive
DESCRIPTION:
URL:https://www.bendfactorystores.com/event-calendar/red-cross-blood-drive/
ATTACH;FMTTYPE=image/jpeg:https://www.bendfactorystores.com/wp-content/uploads/2020/11/redcross.jpg
END:VEVENT
BEGIN:VEVENT
DTSTART;TZID=America/Los_Angeles:20201206T080000
DTEND;TZID=America/Los_Angeles:20201212T170000
DTSTAMP:20260422T013920
CREATED:20201207T183459Z
LAST-MODIFIED:20201207T204345Z
UID:6864-1607241600-1607792400@www.bendfactorystores.com
SUMMARY:Virtual Ugly Sweater Contest
DESCRIPTION:See Facebook Events for details \nVirtual Ugly Sweater Contest | Facebook
URL:https://www.bendfactorystores.com/event-calendar/virtual-ugly-sweater-contest/
LOCATION:Bend Factory Stores\, 61334 S Hwy 97\, Bend\, OR\, 97702
END:VEVENT
BEGIN:VEVENT
DTSTART;TZID=America/Los_Angeles:20201129T100000
DTEND;TZID=America/Los_Angeles:20201129T170000
DTSTAMP:20260422T013920
CREATED:20201123T194921Z
LAST-MODIFIED:20201123T194921Z
UID:6857-1606644000-1606669200@www.bendfactorystores.com
SUMMARY:Small Biz Saturday
DESCRIPTION:Shop small this holiday and support our locally owned retailers \nLEARNING EXPRESS TOYS \nRUNWAY FASHION EXCHANGE \nCASCADE MATTRESS AND BEDROOM FURNITURE \n10AM-1PM \nSpecial Treats in 270
URL:https://www.bendfactorystores.com/event-calendar/small-biz-saturday/
LOCATION:Learning Express Toys\, 61334 S Hwy 97 suite #320\, Bend\, OR\, 97702
END:VEVENT
BEGIN:VEVENT
DTSTART;TZID=America/Los_Angeles:20201119T080000
DTEND;TZID=America/Los_Angeles:20201119T170000
DTSTAMP:20260422T013920
CREATED:20201119T201858Z
LAST-MODIFIED:20201119T201858Z
UID:6853-1605772800-1605805200@www.bendfactorystores.com
SUMMARY:Small Business Saturday
DESCRIPTION:Let’s celebrate all our LOCAL owned Small Business \n \n10-1pm Pacific Perks Coffee will be here in space 270 with Coffee\, Coco and Treats \nStop in and take a selfie with our Gingerbread and candy village cutouts\, Drop off your letter to Santa in his maibox and don’t forget to put a return address.
URL:https://www.bendfactorystores.com/event-calendar/small-business-saturday/
CATEGORIES:Events-Community,Sales
END:VEVENT
BEGIN:VEVENT
DTSTART;TZID=America/Los_Angeles:20200718T100000
DTEND;TZID=America/Los_Angeles:20200718T140000
DTSTAMP:20260422T013920
CREATED:20200615T183932Z
LAST-MODIFIED:20200615T183932Z
UID:6752-1595066400-1595080800@www.bendfactorystores.com
SUMMARY:Car Show
DESCRIPTION:Join us on July 18th’ 10 am to 2 pm to enjoy looking at vintage and new Corvette and Porsche Sports Cars! Bend Factory Stores Mall.
URL:https://www.bendfactorystores.com/event-calendar/car-show/
ATTACH;FMTTYPE=image/jpeg:https://www.bendfactorystores.com/wp-content/uploads/2020/06/103714721_10217660720849066_6754248366698075769_o1.jpg
END:VEVENT
BEGIN:VEVENT
DTSTART;VALUE=DATE:20200704
DTEND;VALUE=DATE:20200705
DTSTAMP:20260422T013920
CREATED:20200617T183033Z
LAST-MODIFIED:20200617T183033Z
UID:6754-1593820800-1593907199@www.bendfactorystores.com
SUMMARY:INDEPENDENCE DAY
DESCRIPTION:CLOSE AT 6pm \nHave a Safe and Happy 4th of JULY
URL:https://www.bendfactorystores.com/event-calendar/independence-day/
END:VEVENT
BEGIN:VEVENT
DTSTART;TZID=America/Los_Angeles:20200226T103000
DTEND;TZID=America/Los_Angeles:20200226T113000
DTSTAMP:20260422T013920
CREATED:20200204T181305Z
LAST-MODIFIED:20200204T181419Z
UID:6686-1582713000-1582716600@www.bendfactorystores.com
SUMMARY:Story Time at Learning Express Toy Store- Free
DESCRIPTION:Join us at 10:30 am on Wednesday February 12th and February 26th for story time!\nA Goldfish snack will be provided.\nThis is a free activity for children ages 1.5+
URL:https://www.bendfactorystores.com/event-calendar/story-time-at-learning-express-toy-store-free/
END:VEVENT
BEGIN:VEVENT
DTSTART;VALUE=DATE:20200214
DTEND;VALUE=DATE:20200218
DTSTAMP:20260422T013920
CREATED:20200211T182532Z
LAST-MODIFIED:20200211T182532Z
UID:6698-1581638400-1581983999@www.bendfactorystores.com
SUMMARY:Nike President's Day Sale
DESCRIPTION:Friday\, February 14 – Monday\, February 17 \n30% off all Clearance  \n*Please use Nike Factory Store 30% off promotion (see attached)
URL:https://www.bendfactorystores.com/event-calendar/nike-presidents-day-sale/
LOCATION:Nike
ATTACH;FMTTYPE=image/jpeg:https://www.bendfactorystores.com/wp-content/uploads/2020/02/nike.jpg
END:VEVENT
BEGIN:VEVENT
DTSTART;TZID=America/Los_Angeles:20200207T110000
DTEND;TZID=America/Los_Angeles:20200207T120000
DTSTAMP:20260422T013920
CREATED:20200204T182423Z
LAST-MODIFIED:20200204T182423Z
UID:6689-1581073200-1581076800@www.bendfactorystores.com
SUMMARY:Heart Tree Paper Craft-Free
DESCRIPTION:Join us on Friday February 7th to participate in making a paper heart tree.\nThis is a free activity for children ages 2+
URL:https://www.bendfactorystores.com/event-calendar/heart-tree-paper-craft-free/
END:VEVENT
BEGIN:VEVENT
DTSTART;TZID=America/Los_Angeles:20200206T180000
DTEND;TZID=America/Los_Angeles:20200206T200000
DTSTAMP:20260422T013920
CREATED:20200204T181113Z
LAST-MODIFIED:20200204T181113Z
UID:6684-1581012000-1581019200@www.bendfactorystores.com
SUMMARY:Fire & Fizz
DESCRIPTION:Join us at Wick’d Candle Lounge on February 6th for a fun night of Candle and Bath Bomb making!\nMeagen\, with Blitzed Bombshell’s\, will walk you thru the process of creating your very own bath bomb and Anni\, will take you thru the candle making process. You will pick up your very special creations the following day\, wrapped and ready to gift to yourself or that very special someone\, just in time for Valentine’s Day.\nYour ticket includes Wick’d’s most popular sized candle\, one bath bomb\, lite bites and a whole lot of fun!\nCandle upgrades and additional bath bombs can be done the night of the event.\nAdult beverages and outside eats are welcome and encouraged!\nArrive anytime between 6 and 6:45.
URL:https://www.bendfactorystores.com/event-calendar/fire-fizz/
LOCATION:Wick’d Candle Lounge
ATTACH;FMTTYPE=image/jpeg:https://www.bendfactorystores.com/wp-content/uploads/2018/08/logo-wickd.jpg
END:VEVENT
BEGIN:VEVENT
DTSTART;TZID=America/Los_Angeles:20200125T113000
DTEND;TZID=America/Los_Angeles:20200125T133000
DTSTAMP:20260422T013920
CREATED:20200113T173323Z
LAST-MODIFIED:20200113T173323Z
UID:6670-1579951800-1579959000@www.bendfactorystores.com
SUMMARY:Peppa Pig Meet and Greet- learning express toys
DESCRIPTION:Peppa Pig is coming back for a visit!\nJoin us on Saturday January 25th from 11:30 am to 1:30 pm to meet your favorite piggy!\nThis is a FREE event for all ages.
URL:https://www.bendfactorystores.com/event-calendar/peppa-pig-meet-and-greet-learning-express-toys/
LOCATION:Learning Express Toys\, 61334 S Hwy 97 suite #320\, Bend\, OR\, 97702
END:VEVENT
BEGIN:VEVENT
DTSTART;TZID=America/Los_Angeles:20200120T163000
DTEND;TZID=America/Los_Angeles:20200120T170000
DTSTAMP:20260422T013920
CREATED:20200113T173040Z
LAST-MODIFIED:20200113T173040Z
UID:6669-1579537800-1579539600@www.bendfactorystores.com
SUMMARY:Martin Luther King Jr. Day Friendship Bracelet Craft-learning express
DESCRIPTION:Join us on Monday January 20th at 4:30 pm to make friendship bracelets. This is the perfect activity to bring your best friend and celebrate the life and accomplishments of Martin Luther King Jr\nThis is a free activity for children ages 3+\nNo reservation is required \n 
URL:https://www.bendfactorystores.com/event-calendar/martin-luther-king-jr-day-friendship-bracelet-craft-learning-express/
LOCATION:Learning Express Toys\, 61334 S Hwy 97 suite #320\, Bend\, OR\, 97702
END:VEVENT
BEGIN:VEVENT
DTSTART;VALUE=DATE:20200115
DTEND;VALUE=DATE:20200116
DTSTAMP:20260422T013920
CREATED:20200113T172933Z
LAST-MODIFIED:20200113T172933Z
UID:6668-1579046400-1579132799@www.bendfactorystores.com
SUMMARY:Genius Square Tournament-learning express toys
DESCRIPTION:Join us on Wednesday January 15th for our FIRST EVER Genius Square Tournament! \nHow does this work?\nParticipants will have three opportunities to get the best possible time to complete the Genius Square board.\nWe will record their best time out of the three tries. The winner of the day will be notified by 6:00 pm on the 15th to claim their prize. \nWhat is the prize?\nGenius Square of course!\nThis is the perfect activity for early release students! See you then!
URL:https://www.bendfactorystores.com/event-calendar/genius-square-tournament-learning-express-toys/
LOCATION:Learning Express Toys\, 61334 S Hwy 97 suite #320\, Bend\, OR\, 97702
END:VEVENT
BEGIN:VEVENT
DTSTART;TZID=UTC:20191209T103000
DTEND;TZID=UTC:20191209T110000
DTSTAMP:20260422T013920
CREATED:20191120T015254Z
LAST-MODIFIED:20191120T015254Z
UID:6607-1575887400-1575889200@www.bendfactorystores.com
SUMMARY:Mountain Watercolor Craft-Learning Express
DESCRIPTION:Join us on Monday December 9 at 10:30 am to paint a snowy mountain scene! This is a FREE craft for children ages 3+. No Reservation required
URL:https://www.bendfactorystores.com/event-calendar/mountain-watercolor-craft-learning-express/
LOCATION:Learning Express Toys\, 61334 S Hwy 97 suite #320\, Bend\, OR\, 97702
END:VEVENT
BEGIN:VEVENT
DTSTART;TZID=UTC:20191205T103000
DTEND;TZID=UTC:20191205T110000
DTSTAMP:20260422T013920
CREATED:20191120T015103Z
LAST-MODIFIED:20191120T015103Z
UID:6606-1575541800-1575543600@www.bendfactorystores.com
SUMMARY:Mittens Themed Story and Craft- Free
DESCRIPTION:Join us Thursday December 05 at 10:30 am to read a mittens themed story and create a craft! This is a FREE event for children ages 2+. No Reservation is required.
URL:https://www.bendfactorystores.com/event-calendar/mittens-themed-story-and-craft-free/
LOCATION:Learning Express Toys\, 61334 S Hwy 97 suite #320\, Bend\, OR\, 97702
END:VEVENT
BEGIN:VEVENT
DTSTART;TZID=UTC:20191203T170000
DTEND;TZID=UTC:20191203T180000
DTSTAMP:20260422T013920
CREATED:20191120T014944Z
LAST-MODIFIED:20191120T014944Z
UID:6605-1575392400-1575396000@www.bendfactorystores.com
SUMMARY:gumdrop STEAM building at Learning Express Toys
DESCRIPTION:Join us on Tuesday December 03 at 5:00 pm to build structures out of toothpicks and gumdrops! This is a FREE event for children ages 5+. No reservation is required.
URL:https://www.bendfactorystores.com/event-calendar/gumdrop-steam-building-at-learning-express-toys/
LOCATION:Learning Express Toys\, 61334 S Hwy 97 suite #320\, Bend\, OR\, 97702
END:VEVENT
BEGIN:VEVENT
DTSTART;VALUE=DATE:20191129
DTEND;VALUE=DATE:20191130
DTSTAMP:20260422T013920
CREATED:20191120T021743Z
LAST-MODIFIED:20191126T021205Z
UID:6614-1574985600-1575071999@www.bendfactorystores.com
SUMMARY:BLACK FRIDAY DEALS
DESCRIPTION:CARTER’S \n\nCarter’s The Biggest Black Friday Ever! Entire Store 60% Off*\n\nHurry in for the BIGGEST BLACK FRIDAY EVER! 60% off* EVERYTHING (no exclusions!!!) Holiday pjs\, dinos\, unicorns\, sparkle + more — fill your sleigh with great gifts at amazing prices at carter’s. \n*Savings based on MSRP. See store associate for details. Valid 11/22 through 11/24. \n\nCarter’s Doorbusters $3.97 and Up*\n\nIt’s the BIGGEST BLACK FRIDAY EVER! Load up your sleigh with huge savings on SUPER EXCLUSIVE doorbusters: tees\, jammies\, bodysuits\, sweatshirts + more starting at $3.97. \n*While supplies last! See store associate for details. Valid 11/22 through 11/24. \nCOLUMBIA SPORTSWEAR OUTLET: \nColumbia Sportswear Open 6Pm – Midnight \nDon’t miss Columbia’s Doorbuster Deals this weekend including $100 off select Columbia Interchange Jackets for men and women! 3-in-1 jackets $100 OFF! \nColumbia Sportswear \nBLACK FRIDAY DOORBUSTERS \nON SALE NOW – 12/03* \n\nUp to 50% off All Outerwear\nFleece for the entire family starting at $17.99\n60% off ALL Men’s & Women’s Slippers\n$50 off select OutDry Footwear\n$16.99 Plush Throws\n\n*While supplies last. See store for details. \nPendleton Outlet:  \n\nBlack Friday Only:\nEarly bird Purchase:\nReceive a $25 GC with $150 purchase OR $50 GC with $200 purchase\n11/27-12/1\n\nThanksgiving / Black Friday Weekend Sales: \n\n40% off select blankets and towels\n40% off sleepwear + loungewear\nup to 70% off apparel\nand more doorbusters\n\n\n\nNike:  \n\nThursday 11.28 – Saturday 11.30\n\n30% off Entire Purchase \n\n\n\n 
URL:https://www.bendfactorystores.com/event-calendar/black-friday-deals/
ORGANIZER;CN="Bend Factory Stores":MAILTO:Bendfactorystores@yahoo.com
END:VEVENT
BEGIN:VEVENT
DTSTART;TZID=UTC:20191128T200000
DTEND;TZID=UTC:20191128T200000
DTSTAMP:20260422T013920
CREATED:20191120T014048Z
LAST-MODIFIED:20191120T014048Z
UID:6599-1574971200-1574971200@www.bendfactorystores.com
SUMMARY:Dash to the Door at Carter's
DESCRIPTION:DASH IN TO WIN | BE ONE OF THE FIRST 100 IN THE DOOR when your store opens on 11/22 or 11/23 to win your share of Dash Dollars! Psst… Check your store hours! \n \nwww.carters.com/find-a-store MORE DETAILS HERE: www.carters.com/dashintowin \nNO PURCHASE NECESSARY. Dash In to Win Promotion is open to legal residents of the 50 U.S.\, DC\, U.S. territories and PR\, 18 yrs. and older. Void where prohibited. For 2018 Black Friday store event hours of operation visit www.carters.com and www.oshkosh.com. For a copy of Official Rules visit the Customer Service Desk at a participating store or visit www.carters.com/dashintowin or www.oshkosh.com/dashintowin. Sweepstakes is sponsored by The William Carter Company\, 3438 Peachtree Rd. NE\, Atlanta\, GA 30326.
URL:https://www.bendfactorystores.com/event-calendar/dash-to-the-door-at-carters/
LOCATION:Carter’s
ATTACH;FMTTYPE=image/jpeg:https://www.bendfactorystores.com/wp-content/uploads/2019/11/car_okbg_dashintowin_mc_553x395.jpg
END:VEVENT
BEGIN:VEVENT
DTSTART;VALUE=DATE:20191128
DTEND;VALUE=DATE:20191129
DTSTAMP:20260422T013920
CREATED:20191120T015835Z
LAST-MODIFIED:20191120T015835Z
UID:6608-1574899200-1574985599@www.bendfactorystores.com
SUMMARY:Thanksgiving DAY
DESCRIPTION:Carter’s Open 8pm -Midnight \n\nDash In to Win Sweepstakes \n\nDASH IN TO WIN | BE ONE OF THE FIRST 100 IN THE DOOR when your store opens on 11/22 or 11/23 to win your share of Dash Dollars! Psst… Check your store hours! www.carters.com/find-a-store MORE DETAILS HERE: www.carters.com/dashintowin \nNO PURCHASE NECESSARY. Dash In to Win Promotion is open to legal residents of the 50 U.S.\, DC\, U.S. territories and PR\, 18 yrs. and older. Void where prohibited. For 2018 Black Friday store event hours of operation visit www.carters.com and www.oshkosh.com. For a copy of Official Rules visit the Customer Service Desk at a participating store or visit www.carters.com/dashintowin or www.oshkosh.com/dashintowin. Sweepstakes is sponsored by The William Carter Company\, 3438 Peachtree Rd. NE\, Atlanta\, GA 30326. \n\nCarter’s The Biggest Black Friday Ever! Entire Store 60% Off* \n\nHurry in for the BIGGEST BLACK FRIDAY EVER! 60% off* EVERYTHING (no exclusions!!!) Holiday pjs\, dinos\, unicorns\, sparkle + more — fill your sleigh with great gifts at amazing prices at carter’s. \n*Savings based on MSRP. See store associate for details. Valid 11/22 through 11/24. \n\nCarter’s Doorbusters $3.97 and Up*\n\nIt’s the BIGGEST BLACK FRIDAY EVER! Load up your sleigh with huge savings on SUPER EXCLUSIVE doorbusters: tees\, jammies\, bodysuits\, sweatshirts + more starting at $3.97. \n*While supplies last! See store associate for details. Valid 11/22 through 11/24. \n  \nColumbia Sportswear Open 6Pm – Midnight \nDon’t miss Columbia’s Doorbuster Deals this weekend including $100 off select Columbia Interchange Jackets for men and women! 3-in-1 jackets $100 OFF! \n 
URL:https://www.bendfactorystores.com/event-calendar/thanksgiving-day/
ATTACH;FMTTYPE=image/jpeg:https://www.bendfactorystores.com/wp-content/uploads/2019/11/46489574_2128583150557558_7275204068576854016_n1.jpg
END:VEVENT
BEGIN:VEVENT
DTSTART;TZID=UTC:20191121T150000
DTEND;TZID=UTC:20191121T200000
DTSTAMP:20260422T013920
CREATED:20191120T021125Z
LAST-MODIFIED:20191120T021125Z
UID:6612-1574348400-1574366400@www.bendfactorystores.com
SUMMARY:Holiday Party at maurices
DESCRIPTION:Free Scarf with $60 Purchase at Maurices
URL:https://www.bendfactorystores.com/event-calendar/holiday-party-at-maurices/
LOCATION:Maurices
END:VEVENT
BEGIN:VEVENT
DTSTART;TZID=UTC:20191105T100000
DTEND;TZID=UTC:20191105T170000
DTSTAMP:20260422T013920
CREATED:20191022T050903Z
LAST-MODIFIED:20191022T050903Z
UID:6582-1572948000-1572973200@www.bendfactorystores.com
SUMMARY:National Doughnut- Free Doughnuts!
DESCRIPTION:Come visit us and receive a FREE doughnut!\n[No purchase necessary]\nWe will be giving away doughnuts while supplies last!\nCome celebrate with us!
URL:https://www.bendfactorystores.com/event-calendar/national-doughnut-free-doughnuts/
LOCATION:Learning Express Toys\, 61334 S Hwy 97 suite #320\, Bend\, OR\, 97702
END:VEVENT
BEGIN:VEVENT
DTSTART;TZID=UTC:20191030T160000
DTEND;TZID=UTC:20191030T170000
DTSTAMP:20260422T013920
CREATED:20191022T045643Z
LAST-MODIFIED:20191022T045643Z
UID:6581-1572451200-1572454800@www.bendfactorystores.com
SUMMARY:Pumpkin Decorating- Free-Reservation Required
DESCRIPTION:Join us Wednesday Oct 30th at 4:00 PM to decorate mini pumpkins!!!\nThis craft is for children ages 2+\nWe will provide lots of craft supplies to make the perfect pumpkin!\n[No carving]\nRESERVATION REQUIRED\nPlease call the store at 541-389-2447 to reserve your child a pumpkin to decorate!
URL:https://www.bendfactorystores.com/event-calendar/pumpkin-decorating-free-reservation-required/
LOCATION:Learning Express Toys\, 61334 S Hwy 97 suite #320\, Bend\, OR\, 97702
END:VEVENT
BEGIN:VEVENT
DTSTART;TZID=UTC:20191025T180000
DTEND;TZID=UTC:20191025T200000
DTSTAMP:20260422T013920
CREATED:20191022T044732Z
LAST-MODIFIED:20191022T045004Z
UID:6579-1572026400-1572033600@www.bendfactorystores.com
SUMMARY:Celebrate! Dia De Los Muertos
DESCRIPTION:Join us Friday the 25th for an evening of Celebration!\nBring a friend or family member and learn all about Dia de Los Muertos and create a special remembrance together!\nEach year\, elaborate altars\, decorated with marigolds\, candles and sugar skulls are created to welcome the deceased back to their homes.\nWe will walk you thru making your very own sugar skull and custom candle over the course of the evening!\nTickets $49 each but will be offered at $5 discount thr October 18th! Just $44\nYour ticket will include a everything you need to create your very own sugar skull\, feel free to bring a small picture or message to place inside\, and a custom 3 x 3 x 4.5 candle or 2 smaller options. Don’t forget to take advantage of this great opportunity!\nArrive anytime between 6-6:30 and feel free to bring a beverage or libation to enjoy!\nLimited seating so get your tickets soon! Discount offered when you purchase 2!
URL:https://www.bendfactorystores.com/event-calendar/celebrate-dia-de-los-muertos/
LOCATION:Wick’d Candle Lounge
END:VEVENT
BEGIN:VEVENT
DTSTART;TZID=UTC:20191025T100000
DTEND;TZID=UTC:20191025T113000
DTSTAMP:20260422T013920
CREATED:20191022T045106Z
LAST-MODIFIED:20191022T045350Z
UID:6580-1571997600-1572003000@www.bendfactorystores.com
SUMMARY:Peppa Pig Meet and Greet- Free
DESCRIPTION:!!!Surprise!!! \nPeppa Pig is coming to visit Friday Oct 25th from 10:00 am to 11:30 am!\nThis is the perfect chance to bring non-school aged children to see their favorite tv star!\nWe can’t wait to see you!
URL:https://www.bendfactorystores.com/event-calendar/peppa-pig-meet-and-greet-free/
LOCATION:Learning Express Toys\, 61334 S Hwy 97 suite #320\, Bend\, OR\, 97702
END:VEVENT
BEGIN:VEVENT
DTSTART;TZID=UTC:20191024T110000
DTEND;TZID=UTC:20191024T140000
DTSTAMP:20260422T013920
CREATED:20191016T005546Z
LAST-MODIFIED:20191016T223233Z
UID:6576-1571914800-1571925600@www.bendfactorystores.com
SUMMARY:Think Wild Co. Benefit Lunch
DESCRIPTION:Come join us on October 24th from 11-3 and have lunch to help support Think Wild Co.! 20% of all sales during this time go the help this non-profit rehabilitate wild animals in Central Oregon! \nA little about Think Wild Co. :\nInspiring our High Desert community to care for and protect native wildlife through education\, outreach\, and rehabilitation. Think Wild promotes awareness of our impacts on wildlife as our communities grow\, fostering appreciation and stewardship for the conservation of our wildlife and their habitats. Think Wild will provide a wildlife hospital to treat and rehabilitate native birds and mammals\, providing species specific care for birds an animals that become orphaned or injured so they can be successfully released back into the wild. Think Wild acts as a voice for wildlife to strengthen advocacy for conservation\, applying what we have learned from years of wildlife care to inform the community on man-made hazards in our growing urban landscape\, and advising local  and regional policies to reduce threats to wildlife. Think Wild also provides an education center to teach and inspire the public to live respectfully with urban wildlife. Think Wild is a 501c3 non-profit\, providing wildlife hotline support to the Central Oregon community at 541-241-8680.
URL:https://www.bendfactorystores.com/event-calendar/think-wild-co-benefit-lunch/
END:VEVENT
BEGIN:VEVENT
DTSTART;TZID=UTC:20191012T110000
DTEND;TZID=UTC:20191012T140000
DTSTAMP:20260422T013920
CREATED:20191005T005335Z
LAST-MODIFIED:20191005T005335Z
UID:6565-1570878000-1570888800@www.bendfactorystores.com
SUMMARY:Paw Patrol Meet and Greet!-Learning Express
DESCRIPTION:
URL:https://www.bendfactorystores.com/event-calendar/paw-patrol-meet-and-greet-learning-express/
LOCATION:Learning Express Toys\, 61334 S Hwy 97 suite #320\, Bend\, OR\, 97702
END:VEVENT
BEGIN:VEVENT
DTSTART;TZID=UTC:20191011T180000
DTEND;TZID=UTC:20191011T200000
DTSTAMP:20260422T013920
CREATED:20191005T005220Z
LAST-MODIFIED:20191005T005220Z
UID:6564-1570816800-1570824000@www.bendfactorystores.com
SUMMARY:Ghouls Night Out-Wick'd Candle Lounge
DESCRIPTION:
URL:https://www.bendfactorystores.com/event-calendar/ghouls-night-out-wickd-candle-lounge/
LOCATION:Wick’d Candle Lounge
END:VEVENT
BEGIN:VEVENT
DTSTART;TZID=UTC:20191010T103000
DTEND;TZID=UTC:20191010T113000
DTSTAMP:20260422T013920
CREATED:20191005T005019Z
LAST-MODIFIED:20191005T005019Z
UID:6563-1570703400-1570707000@www.bendfactorystores.com
SUMMARY:Fall Leaf Wreath Craft-LearningExpress
DESCRIPTION:
URL:https://www.bendfactorystores.com/event-calendar/fall-leaf-wreath-craft-learningexpress/
LOCATION:Learning Express Toys\, 61334 S Hwy 97 suite #320\, Bend\, OR\, 97702
END:VEVENT
END:VCALENDAR